BEGIN:VCALENDAR
VERSION:2.0
PRODID:icalendar-ruby
CALSCALE:GREGORIAN
METHOD:PUBLISH
BEGIN:VEVENT
DTSTAMP:20260425T022432Z
UID:ef36fe1a-3e08-4c9f-8412-3448d4195a43
DTSTART:20260424T200000
DTEND:20260425T040000
DESCRIPTION:<p><span>LONDON</span></p><p><span>Friday 24 April</span></p><p
 ><span>Where the room moves different.</span></p><p><span>Tickets live: th
 elondonjhb.co.za</span></p>
LOCATION:160 Jan Smuts Ave\, Rosebank\, Johannesburg\, 2191
SUMMARY:LONDON - 24 APRIL
URL;VALUE=URI:https://london.howler.co.za/london24
END:VEVENT
END:VCALENDAR
